BEGIN:VCALENDAR
VERSION:2.0
PRODID:-//Conexion Wellness Center - ECPv6.0.13.1//NONSGML v1.0//EN
CALSCALE:GREGORIAN
METHOD:PUBLISH
X-WR-CALNAME:Conexion Wellness Center
X-ORIGINAL-URL:https://www.conexionwellness.center
X-WR-CALDESC:Eventos para Conexion Wellness Center
REFRESH-INTERVAL;VALUE=DURATION:PT1H
X-Robots-Tag:noindex
X-PUBLISHED-TTL:PT1H
BEGIN:VTIMEZONE
TZID:America/New_York
BEGIN:DAYLIGHT
TZOFFSETFROM:-0500
TZOFFSETTO:-0400
TZNAME:EDT
DTSTART:20230312T070000
END:DAYLIGHT
BEGIN:STANDARD
TZOFFSETFROM:-0400
TZOFFSETTO:-0500
TZNAME:EST
DTSTART:20231105T060000
END:STANDARD
END:VTIMEZONE
BEGIN:VEVENT
DTSTART;TZID=America/New_York:20230602T140000
DTEND;TZID=America/New_York:20230602T140000
DTSTAMP:20260422T191055
CREATED:20230525T230002Z
LAST-MODIFIED:20230528T234706Z
UID:3028-1685714400-1685714400@www.conexionwellness.center
SUMMARY:Conferencia Medicina Regenerativa en el siglo XXI
DESCRIPTION:Conferencia sobre la innovación de la medicina regenerativa en el siglo XXI\, donde se tocaran temas como las células madre\, aplicación de exosomas\, entre otros. Conexión queda ubicado en el KM 9 Vía La Calera. Están invitados para que pasen una tarde de termales\, aprendizaje y tendremos degustación de alimentos funcionales por parte de nuestro aliado estratégico Natuintelig.
URL:https://www.conexionwellness.center/event/conferencia-medicina-regenerativa-siglo-xxi/
LOCATION:Conexión Wellness Center\, Km 9 Vía La Calera - Vereda El Salitre\, Bogotá\, Bogotá\, 111031\, Colombia
END:VEVENT
END:VCALENDAR