BEGIN:VCALENDAR
VERSION:2.0
PRODID:-//Conexion Wellness Center - ECPv6.0.13.1//NONSGML v1.0//EN
CALSCALE:GREGORIAN
METHOD:PUBLISH
X-ORIGINAL-URL:https://www.conexionwellness.center
X-WR-CALDESC:Eventos para Conexion Wellness Center
REFRESH-INTERVAL;VALUE=DURATION:PT1H
X-Robots-Tag:noindex
X-PUBLISHED-TTL:PT1H
BEGIN:VTIMEZONE
TZID:America/New_York
BEGIN:DAYLIGHT
TZOFFSETFROM:-0500
TZOFFSETTO:-0400
TZNAME:EDT
DTSTART:20230312T070000
END:DAYLIGHT
BEGIN:STANDARD
TZOFFSETFROM:-0400
TZOFFSETTO:-0500
TZNAME:EST
DTSTART:20231105T060000
END:STANDARD
END:VTIMEZONE
BEGIN:VEVENT
DTSTART;TZID=America/New_York:20230710T060000
DTEND;TZID=America/New_York:20230710T190000
DTSTAMP:20260422T173815
CREATED:20230622T143252Z
LAST-MODIFIED:20230526T184112Z
UID:3045-1688968800-1689015600@www.conexionwellness.center
SUMMARY:Conferencia con el Doctor Francisco
DESCRIPTION:Aproveha la oportunidad de conocer más sobre tu cuerpo y como cuidarlo. Te llevaremos de la mano por un camino para el autodescubrimiento.
URL:https://www.conexionwellness.center/event/charla-con-el-doctor-francisco/
LOCATION:Conexión Wellness Center\, Km 9 Vía La Calera - Vereda El Salitre\, Bogotá\, Bogotá\, 111031\, Colombia
END:VEVENT
END:VCALENDAR